BEGIN:VCALENDAR
VERSION:2.0
PRODID:-//Columns - ECPv6.0.12//NONSGML v1.0//EN
CALSCALE:GREGORIAN
METHOD:PUBLISH
X-WR-CALNAME:Columns
X-ORIGINAL-URL:https://thecolumns.com
X-WR-CALDESC:Events for Columns
REFRESH-INTERVAL;VALUE=DURATION:PT1H
X-Robots-Tag:noindex
X-PUBLISHED-TTL:PT1H
BEGIN:VTIMEZONE
TZID:America/New_York
BEGIN:DAYLIGHT
TZOFFSETFROM:-0500
TZOFFSETTO:-0400
TZNAME:EDT
DTSTART:20230312T070000
END:DAYLIGHT
BEGIN:STANDARD
TZOFFSETFROM:-0400
TZOFFSETTO:-0500
TZNAME:EST
DTSTART:20231105T060000
END:STANDARD
END:VTIMEZONE
BEGIN:VEVENT
DTSTART;TZID=America/New_York:20230630T190000
DTEND;TZID=America/New_York:20230630T220000
DTSTAMP:20260421T090254
CREATED:20230622T175411Z
LAST-MODIFIED:20230622T175411Z
UID:529-1688151600-1688162400@thecolumns.com
SUMMARY:6.30 Basin Nights
DESCRIPTION:Join us. Essence Weekend.
URL:https://thecolumns.com/event/6-30-basin-nights/
END:VEVENT
END:VCALENDAR