BEGIN:VCALENDAR
VERSION:2.0
PRODID:-//Columns - ECPv6.0.12//NONSGML v1.0//EN
CALSCALE:GREGORIAN
METHOD:PUBLISH
X-WR-CALNAME:Columns
X-ORIGINAL-URL:https://thecolumns.com
X-WR-CALDESC:Events for Columns
REFRESH-INTERVAL;VALUE=DURATION:PT1H
X-Robots-Tag:noindex
X-PUBLISHED-TTL:PT1H
BEGIN:VTIMEZONE
TZID:America/New_York
BEGIN:DAYLIGHT
TZOFFSETFROM:-0500
TZOFFSETTO:-0400
TZNAME:EDT
DTSTART:20230312T070000
END:DAYLIGHT
BEGIN:STANDARD
TZOFFSETFROM:-0400
TZOFFSETTO:-0500
TZNAME:EST
DTSTART:20231105T060000
END:STANDARD
END:VTIMEZONE
BEGIN:VEVENT
DTSTART;TZID=America/New_York:20231019T180000
DTEND;TZID=America/New_York:20231019T210000
DTSTAMP:20260420T021419
CREATED:20231014T003056Z
LAST-MODIFIED:20231014T003056Z
UID:654-1697738400-1697749200@thecolumns.com
SUMMARY:Bruno Elisabetsky Duo
DESCRIPTION:Composer\, guitarist\, and singer\, Bruno Elisabetsky has released 3 albums including his original work that mixes Brazilian musical richness with elements of jazz classical music. The musician brings part of this repertoire to Columns in addition to samba\, samba jazz\, bossa nova\, Latin jazz\, and swing accompanied by saxophonist Julian Lee.
URL:https://thecolumns.com/event/bruno-elisabetsky-duo/
END:VEVENT
END:VCALENDAR