BEGIN:VCALENDAR
VERSION:2.0
PRODID:-//Columns - ECPv6.0.12//NONSGML v1.0//EN
CALSCALE:GREGORIAN
METHOD:PUBLISH
X-WR-CALNAME:Columns
X-ORIGINAL-URL:https://thecolumns.com
X-WR-CALDESC:Events for Columns
REFRESH-INTERVAL;VALUE=DURATION:PT1H
X-Robots-Tag:noindex
X-PUBLISHED-TTL:PT1H
BEGIN:VTIMEZONE
TZID:America/New_York
BEGIN:DAYLIGHT
TZOFFSETFROM:-0500
TZOFFSETTO:-0400
TZNAME:EDT
DTSTART:20230312T070000
END:DAYLIGHT
BEGIN:STANDARD
TZOFFSETFROM:-0400
TZOFFSETTO:-0500
TZNAME:EST
DTSTART:20231105T060000
END:STANDARD
END:VTIMEZONE
BEGIN:VEVENT
DTSTART;TZID=America/New_York:20231113T183000
DTEND;TZID=America/New_York:20231113T210000
DTSTAMP:20260420T222731
CREATED:20231031T183253Z
LAST-MODIFIED:20231113T195940Z
UID:667-1699900200-1699909200@thecolumns.com
SUMMARY:Stanton Moore Trio
DESCRIPTION:Join us for a special evening with Stanton Moore\,\nDavid Torkanowsky\, and James Singleton.\n \nAll tickets are General Admission.\nSeating available on a first come first serve basis. Doors open at 6pm.\nOne seating. First set 6:30-7:30pm\, second set 8-9pm. \nhttps://resy.com/cities/no/venues/columns/events/11-13-stanton-moore-trio-2023-11-13?date=2023-10-31&seats=2
URL:https://thecolumns.com/event/stanton-moore-trio-8/
END:VEVENT
END:VCALENDAR