BEGIN:VCALENDAR
VERSION:2.0
PRODID:-//Columns - ECPv6.0.12//NONSGML v1.0//EN
CALSCALE:GREGORIAN
METHOD:PUBLISH
X-WR-CALNAME:Columns
X-ORIGINAL-URL:https://thecolumns.com
X-WR-CALDESC:Events for Columns
REFRESH-INTERVAL;VALUE=DURATION:PT1H
X-Robots-Tag:noindex
X-PUBLISHED-TTL:PT1H
BEGIN:VTIMEZONE
TZID:America/New_York
BEGIN:DAYLIGHT
TZOFFSETFROM:-0500
TZOFFSETTO:-0400
TZNAME:EDT
DTSTART:20230312T070000
END:DAYLIGHT
BEGIN:STANDARD
TZOFFSETFROM:-0400
TZOFFSETTO:-0500
TZNAME:EST
DTSTART:20231105T060000
END:STANDARD
END:VTIMEZONE
BEGIN:VEVENT
DTSTART;TZID=America/New_York:20231221T113000
DTEND;TZID=America/New_York:20231221T144500
DTSTAMP:20260422T103059
CREATED:20231209T055105Z
LAST-MODIFIED:20231209T055105Z
UID:771-1703158200-1703169900@thecolumns.com
SUMMARY:Lunch with Santa
DESCRIPTION:Enjoy an assortment of finger sandwiches\, Christmas cookies\,\na build your own hot chocolate bar (with spirited additions for adults!)\nand\, of course\, photos with Santa in front of the tree.
URL:https://thecolumns.com/event/lunch-with-santa/
END:VEVENT
BEGIN:VEVENT
DTSTART;TZID=America/New_York:20231221T200000
DTEND;TZID=America/New_York:20231221T230000
DTSTAMP:20260422T103059
CREATED:20231218T182414Z
LAST-MODIFIED:20231218T182637Z
UID:783-1703188800-1703199600@thecolumns.com
SUMMARY:Late Night Curiosities: Holiday Edition
DESCRIPTION:Event starts at 8pm\, but you’re welcome to join us anytime after 8pm\nwith each tasting lasting approximately 1.5 hours\, and coming to a close at 11pm. \nEach event will focus on a selection of four different natural wines\, from the old world\, new world\, and upside down world. \nLed by certified wine enthusiast and resident barista Jorge Rodas\, you’ll be sure to enjoy a warm and entertaining evening \nand leave with a greater (or stranger) understanding of our unique selections. \nAdditional beverage options and snacks will be available for purchase\, along with featured specialty cocktails. \n8-11pm. $30 per person plus tax & gratuity. (Kitchen closes at 9pm)
URL:https://thecolumns.com/event/late-night-curiosities-holiday-edition/
END:VEVENT
END:VCALENDAR