BEGIN:VCALENDAR
VERSION:2.0
PRODID:-//Columns - ECPv6.0.12//NONSGML v1.0//EN
CALSCALE:GREGORIAN
METHOD:PUBLISH
X-WR-CALNAME:Columns
X-ORIGINAL-URL:https://thecolumns.com
X-WR-CALDESC:Events for Columns
REFRESH-INTERVAL;VALUE=DURATION:PT1H
X-Robots-Tag:noindex
X-PUBLISHED-TTL:PT1H
BEGIN:VTIMEZONE
TZID:America/New_York
BEGIN:DAYLIGHT
TZOFFSETFROM:-0500
TZOFFSETTO:-0400
TZNAME:EDT
DTSTART:20250309T070000
END:DAYLIGHT
BEGIN:STANDARD
TZOFFSETFROM:-0400
TZOFFSETTO:-0500
TZNAME:EST
DTSTART:20251102T060000
END:STANDARD
END:VTIMEZONE
BEGIN:VEVENT
DTSTART;TZID=America/New_York:20250522T200000
DTEND;TZID=America/New_York:20250522T230000
DTSTAMP:20260419T103815
CREATED:20250513T231606Z
LAST-MODIFIED:20250514T223456Z
UID:1419-1747944000-1747954800@thecolumns.com
SUMMARY:Late Night Curiosities: Into the Bubbleverse!
DESCRIPTION:Whether you’re a seasoned professional or new to wine\, this event is a rare opportunity to connect\, learn\, and enjoy. During the event\, we will be pouring a curated selection of four different sparkling natural wines from the new world\, old world\, and upside down world. Led by certified wine enthusiast\, Jorge Miguel Rodas\, you’ll be sure to enjoy a warm and entertaining evening and leave with a greater (or stranger) understanding wine. \nEvent starts at 8pm\, but you’re welcome to join us anytime after 8pm with each tasting lasting approximately 1.5 hours\, and coming to a close at 11pm.\nAdditional beverage options and snacks will be available for purchase\, along with featured specialty cocktails. 8-11pm. $30 per person plus tax & gratuity.
URL:https://thecolumns.com/event/late-night-curiosities-summer-bubbles/
END:VEVENT
END:VCALENDAR