BEGIN:VCALENDAR
VERSION:2.0
PRODID:-//Columns - ECPv6.0.12//NONSGML v1.0//EN
CALSCALE:GREGORIAN
METHOD:PUBLISH
X-WR-CALNAME:Columns
X-ORIGINAL-URL:https://thecolumns.com
X-WR-CALDESC:Events for Columns
REFRESH-INTERVAL;VALUE=DURATION:PT1H
X-Robots-Tag:noindex
X-PUBLISHED-TTL:PT1H
BEGIN:VTIMEZONE
TZID:America/New_York
BEGIN:DAYLIGHT
TZOFFSETFROM:-0500
TZOFFSETTO:-0400
TZNAME:EDT
DTSTART:20230312T070000
END:DAYLIGHT
BEGIN:STANDARD
TZOFFSETFROM:-0400
TZOFFSETTO:-0500
TZNAME:EST
DTSTART:20231105T060000
END:STANDARD
END:VTIMEZONE
BEGIN:VEVENT
DTSTART;TZID=America/New_York:20230604T193000
DTEND;TZID=America/New_York:20230604T220000
DTSTAMP:20260421T090310
CREATED:20230530T184332Z
LAST-MODIFIED:20230530T185131Z
UID:508-1685907000-1685916000@thecolumns.com
SUMMARY:6.05 Anders Osborne-Special Performance
DESCRIPTION:
URL:https://thecolumns.com/event/6-05-anders-osborne-special-performance/
END:VEVENT
BEGIN:VEVENT
DTSTART;TZID=America/New_York:20230605T183000
DTEND;TZID=America/New_York:20230605T210000
DTSTAMP:20260421T090310
CREATED:20230530T183717Z
LAST-MODIFIED:20230530T183919Z
UID:499-1685989800-1685998800@thecolumns.com
SUMMARY:6.05 Stanton Moore Trio
DESCRIPTION:Stanton Moore\, David Torkanowsky\, and James Singleton
URL:https://thecolumns.com/event/6-05-stanton-moore-trio/
END:VEVENT
BEGIN:VEVENT
DTSTART;TZID=America/New_York:20230611T193000
DTEND;TZID=America/New_York:20230611T220000
DTSTAMP:20260421T090310
CREATED:20230530T184532Z
LAST-MODIFIED:20230530T184532Z
UID:510-1686511800-1686520800@thecolumns.com
SUMMARY:6.11 Mahmoud Chouki with David Torkanowsky
DESCRIPTION:
URL:https://thecolumns.com/event/6-11-mahmoud-chouki-with-david-torkanowsky/
END:VEVENT
BEGIN:VEVENT
DTSTART;TZID=America/New_York:20230612T183000
DTEND;TZID=America/New_York:20230612T210000
DTSTAMP:20260421T090310
CREATED:20230530T183838Z
LAST-MODIFIED:20230530T183838Z
UID:501-1686594600-1686603600@thecolumns.com
SUMMARY:6.12 Stanton Moore Presents
DESCRIPTION:Johnny Vidacovich\, David Torkanowsky\, and James Singleton
URL:https://thecolumns.com/event/6-12-stanton-moore-presents/
END:VEVENT
BEGIN:VEVENT
DTSTART;TZID=America/New_York:20230618T193000
DTEND;TZID=America/New_York:20230618T220000
DTSTAMP:20260421T090310
CREATED:20230530T184653Z
LAST-MODIFIED:20230602T211805Z
UID:512-1687116600-1687125600@thecolumns.com
SUMMARY:6.18 Ivan Neville
DESCRIPTION:
URL:https://thecolumns.com/event/6-18-ivan-neville/
END:VEVENT
BEGIN:VEVENT
DTSTART;TZID=America/New_York:20230619T183000
DTEND;TZID=America/New_York:20230619T210000
DTSTAMP:20260421T090310
CREATED:20230530T184122Z
LAST-MODIFIED:20230530T184122Z
UID:504-1687199400-1687208400@thecolumns.com
SUMMARY:6.19 Stanton Moore Presents
DESCRIPTION:Johnny Vidacovich\, David Torkanowsky\, and James Singleton
URL:https://thecolumns.com/event/6-19-stanton-moore-presents/
END:VEVENT
BEGIN:VEVENT
DTSTART;TZID=America/New_York:20230622T070000
DTEND;TZID=America/New_York:20230622T150000
DTSTAMP:20260421T090310
CREATED:20230622T175936Z
LAST-MODIFIED:20230622T175936Z
UID:533-1687417200-1687446000@thecolumns.com
SUMMARY:Coffee Shop Closed-City Maintenance
DESCRIPTION:
URL:https://thecolumns.com/event/coffee-shop-closed-city-maintenance/
END:VEVENT
BEGIN:VEVENT
DTSTART;TZID=America/New_York:20230625T193000
DTEND;TZID=America/New_York:20230625T220000
DTSTAMP:20260421T090310
CREATED:20230530T184742Z
LAST-MODIFIED:20230530T184742Z
UID:514-1687721400-1687730400@thecolumns.com
SUMMARY:6.25 C.C. Adcock with Tommy McLaine
DESCRIPTION:
URL:https://thecolumns.com/event/6-25-c-c-adcock-with-tommy-mclaine/
END:VEVENT
BEGIN:VEVENT
DTSTART;TZID=America/New_York:20230626T183000
DTEND;TZID=America/New_York:20230626T210000
DTSTAMP:20260421T090310
CREATED:20230530T184216Z
LAST-MODIFIED:20230530T184931Z
UID:506-1687804200-1687813200@thecolumns.com
SUMMARY:6.26 Stanton Moore Trio
DESCRIPTION:Stanton Moore\, David Torkanowsky\, and James Singleton
URL:https://thecolumns.com/event/6-26-stanton-moore-trio/
END:VEVENT
BEGIN:VEVENT
DTSTART;TZID=America/New_York:20230629T190000
DTEND;TZID=America/New_York:20230629T220000
DTSTAMP:20260421T090310
CREATED:20230622T175259Z
LAST-MODIFIED:20230622T175259Z
UID:527-1688065200-1688076000@thecolumns.com
SUMMARY:6.29 Basin Nights
DESCRIPTION:Join us. Essence Weekend.
URL:https://thecolumns.com/event/6-29-basin-nights/
END:VEVENT
BEGIN:VEVENT
DTSTART;TZID=America/New_York:20230630T190000
DTEND;TZID=America/New_York:20230630T220000
DTSTAMP:20260421T090310
CREATED:20230622T175411Z
LAST-MODIFIED:20230622T175411Z
UID:529-1688151600-1688162400@thecolumns.com
SUMMARY:6.30 Basin Nights
DESCRIPTION:Join us. Essence Weekend.
URL:https://thecolumns.com/event/6-30-basin-nights/
END:VEVENT
END:VCALENDAR